BEGIN:VCALENDAR
PRODID:-//eluceo/ical//2.0/EN
VERSION:2.0
CALSCALE:GREGORIAN
BEGIN:VEVENT
UID:ab427076ec92f1e711b4ab7e08d34691
DTSTAMP:20260420T091150Z
SUMMARY:Putney Swope
DTSTART;TZID=Europe/Prague:20260312T180100
DTEND;TZID=Europe/Prague:20260312T192600
LOCATION:Kino Aero
END:VEVENT
END:VCALENDAR
BEGIN:VCALENDAR
PRODID:-//eluceo/ical//2.0/EN
VERSION:2.0
CALSCALE:GREGORIAN
BEGIN:VEVENT
UID:1500c466360a738ab5738ef0c5d8a0e0
DTSTAMP:20260420T091150Z
SUMMARY:Putney Swope
DTSTART;TZID=Europe/Prague:20260312T180100
DTEND;TZID=Europe/Prague:20260312T192600
LOCATION:Kino Aero
END:VEVENT
END:VCALENDAR
