BEGIN:VCALENDAR
PRODID:-//eluceo/ical//2.0/EN
VERSION:2.0
CALSCALE:GREGORIAN
BEGIN:VEVENT
UID:f043d89a7708baf20a7c903dfcee2ab5
DTSTAMP:20260421T085422Z
SUMMARY:Pillion
DTSTART;TZID=Europe/Prague:20260324T200000
DTEND;TZID=Europe/Prague:20260324T214300
LOCATION:Kino Světozor
END:VEVENT
END:VCALENDAR
BEGIN:VCALENDAR
PRODID:-//eluceo/ical//2.0/EN
VERSION:2.0
CALSCALE:GREGORIAN
BEGIN:VEVENT
UID:4a69dd800b56226f6d66a38d6ae61c95
DTSTAMP:20260421T085422Z
SUMMARY:Pillion
DTSTART;TZID=Europe/Prague:20260324T200000
DTEND;TZID=Europe/Prague:20260324T214300
LOCATION:Kino Světozor
END:VEVENT
END:VCALENDAR
