BEGIN:VCALENDAR
PRODID:-//eluceo/ical//2.0/EN
VERSION:2.0
CALSCALE:GREGORIAN
BEGIN:VEVENT
UID:1ffb27d6fb6f0259b91bde73cc6e23a9
DTSTAMP:20260421T084719Z
SUMMARY:Pillion
DTSTART;TZID=Europe/Prague:20260326T203000
DTEND;TZID=Europe/Prague:20260326T221300
LOCATION:Bio Oko
END:VEVENT
END:VCALENDAR
BEGIN:VCALENDAR
PRODID:-//eluceo/ical//2.0/EN
VERSION:2.0
CALSCALE:GREGORIAN
BEGIN:VEVENT
UID:b1904d9c3e11205266c5baf5f8cb0070
DTSTAMP:20260421T084719Z
SUMMARY:Pillion
DTSTART;TZID=Europe/Prague:20260326T203000
DTEND;TZID=Europe/Prague:20260326T221300
LOCATION:Bio Oko
END:VEVENT
END:VCALENDAR
