BEGIN:VCALENDAR
PRODID:-//eluceo/ical//2.0/EN
VERSION:2.0
CALSCALE:GREGORIAN
BEGIN:VEVENT
UID:038b2468bfc538016548449ce73f995c
DTSTAMP:20260421T085119Z
SUMMARY:Pillion
DTSTART;TZID=Europe/Prague:20260314T201500
DTEND;TZID=Europe/Prague:20260314T215800
LOCATION:Kino Aero
END:VEVENT
END:VCALENDAR
BEGIN:VCALENDAR
PRODID:-//eluceo/ical//2.0/EN
VERSION:2.0
CALSCALE:GREGORIAN
BEGIN:VEVENT
UID:d8108b3faab0b8598635d0c718a2299f
DTSTAMP:20260421T085119Z
SUMMARY:Pillion
DTSTART;TZID=Europe/Prague:20260314T201500
DTEND;TZID=Europe/Prague:20260314T215800
LOCATION:Kino Aero
END:VEVENT
END:VCALENDAR
