BEGIN:VCALENDAR
PRODID:-//eluceo/ical//2.0/EN
VERSION:2.0
CALSCALE:GREGORIAN
BEGIN:VEVENT
UID:d1a3f39bbd76d71e25d3f5733f05dd41
DTSTAMP:20260421T084354Z
SUMMARY:Pillion
DTSTART;TZID=Europe/Prague:20260320T180000
DTEND;TZID=Europe/Prague:20260320T194300
LOCATION:Bio Oko
END:VEVENT
END:VCALENDAR
BEGIN:VCALENDAR
PRODID:-//eluceo/ical//2.0/EN
VERSION:2.0
CALSCALE:GREGORIAN
BEGIN:VEVENT
UID:5ecdc00f2d6342a5d9823d7075a431ff
DTSTAMP:20260421T084354Z
SUMMARY:Pillion
DTSTART;TZID=Europe/Prague:20260320T180000
DTEND;TZID=Europe/Prague:20260320T194300
LOCATION:Bio Oko
END:VEVENT
END:VCALENDAR
