BEGIN:VCALENDAR
PRODID:-//eluceo/ical//2.0/EN
VERSION:2.0
CALSCALE:GREGORIAN
BEGIN:VEVENT
UID:b1ae7a0f353bb9dd5bf249f1b9ce92d1
DTSTAMP:20260423T161934Z
SUMMARY:Kill Bill: The Whole Bloody Affair
DTSTART;TZID=Europe/Prague:20260614T170000
DTEND;TZID=Europe/Prague:20260614T213500
LOCATION:Kino Přítomnost
END:VEVENT
END:VCALENDAR
BEGIN:VCALENDAR
PRODID:-//eluceo/ical//2.0/EN
VERSION:2.0
CALSCALE:GREGORIAN
BEGIN:VEVENT
UID:2d9f1d677eb0085ebf433a4d4e7cdfd8
DTSTAMP:20260423T161934Z
SUMMARY:Kill Bill: The Whole Bloody Affair
DTSTART;TZID=Europe/Prague:20260614T170000
DTEND;TZID=Europe/Prague:20260614T213500
LOCATION:Kino Přítomnost
END:VEVENT
END:VCALENDAR
