BEGIN:VCALENDAR
PRODID:-//eluceo/ical//2.0/EN
VERSION:2.0
CALSCALE:GREGORIAN
BEGIN:VEVENT
UID:d0ec0f5777063b150011304d61ac740b
DTSTAMP:20260423T161941Z
SUMMARY:Kill Bill: The Whole Bloody Affair
DTSTART;TZID=Europe/Prague:20260501T183000
DTEND;TZID=Europe/Prague:20260501T230500
LOCATION:Kino Světozor
END:VEVENT
END:VCALENDAR
BEGIN:VCALENDAR
PRODID:-//eluceo/ical//2.0/EN
VERSION:2.0
CALSCALE:GREGORIAN
BEGIN:VEVENT
UID:4077b262e602fe05955b335e84dfa214
DTSTAMP:20260423T161941Z
SUMMARY:Kill Bill: The Whole Bloody Affair
DTSTART;TZID=Europe/Prague:20260501T183000
DTEND;TZID=Europe/Prague:20260501T230500
LOCATION:Kino Světozor
END:VEVENT
END:VCALENDAR
