BEGIN:VCALENDAR
PRODID:-//eluceo/ical//2.0/EN
VERSION:2.0
CALSCALE:GREGORIAN
BEGIN:VEVENT
UID:61079354897c0ba85f96b30a90b60a4f
DTSTAMP:20260423T161941Z
SUMMARY:Kill Bill: The Whole Bloody Affair
DTSTART;TZID=Europe/Prague:20260502T181500
DTEND;TZID=Europe/Prague:20260502T225000
LOCATION:Kino Světozor
END:VEVENT
END:VCALENDAR
BEGIN:VCALENDAR
PRODID:-//eluceo/ical//2.0/EN
VERSION:2.0
CALSCALE:GREGORIAN
BEGIN:VEVENT
UID:394a4db1efdd0973665b7f61fe7ea82c
DTSTAMP:20260423T161941Z
SUMMARY:Kill Bill: The Whole Bloody Affair
DTSTART;TZID=Europe/Prague:20260502T181500
DTEND;TZID=Europe/Prague:20260502T225000
LOCATION:Kino Světozor
END:VEVENT
END:VCALENDAR
