BEGIN:VCALENDAR
PRODID:-//eluceo/ical//2.0/EN
VERSION:2.0
CALSCALE:GREGORIAN
BEGIN:VEVENT
UID:018ac6f7ada9bdc6e3200ecf9e4c6d31
DTSTAMP:20260424T204244Z
SUMMARY:Mamma Mia!
DTSTART;TZID=Europe/Prague:20260510T194500
DTEND;TZID=Europe/Prague:20260510T213400
LOCATION:Kino Aero
END:VEVENT
END:VCALENDAR
BEGIN:VCALENDAR
PRODID:-//eluceo/ical//2.0/EN
VERSION:2.0
CALSCALE:GREGORIAN
BEGIN:VEVENT
UID:e02c1a7918c10c34f1848349d130eb45
DTSTAMP:20260424T204244Z
SUMMARY:Mamma Mia!
DTSTART;TZID=Europe/Prague:20260510T194500
DTEND;TZID=Europe/Prague:20260510T213400
LOCATION:Kino Aero
END:VEVENT
END:VCALENDAR
