BEGIN:VCALENDAR
PRODID:-//eluceo/ical//2.0/EN
VERSION:2.0
CALSCALE:GREGORIAN
BEGIN:VEVENT
UID:c03da0ba330079eed83005afba42ccaa
DTSTAMP:20260420T090631Z
SUMMARY:Pan Nikdo proti Putinovi
DTSTART;TZID=Europe/Prague:20260323T150000
DTEND;TZID=Europe/Prague:20260323T163000
LOCATION:Bio Oko
END:VEVENT
END:VCALENDAR
BEGIN:VCALENDAR
PRODID:-//eluceo/ical//2.0/EN
VERSION:2.0
CALSCALE:GREGORIAN
BEGIN:VEVENT
UID:64474fd20a9e4ab3fbafad1c7cbadf83
DTSTAMP:20260420T090631Z
SUMMARY:Pan Nikdo proti Putinovi
DTSTART;TZID=Europe/Prague:20260323T150000
DTEND;TZID=Europe/Prague:20260323T163000
LOCATION:Bio Oko
END:VEVENT
END:VCALENDAR
