BEGIN:VCALENDAR
PRODID:-//eluceo/ical//2.0/EN
VERSION:2.0
CALSCALE:GREGORIAN
BEGIN:VEVENT
UID:5cbe270fb08b2ac656b5f4bb61e63752
DTSTAMP:20260421T085053Z
SUMMARY:Tancuj\, kopej\, vykrúcaj!
DTSTART;TZID=Europe/Prague:20260327T171500
DTEND;TZID=Europe/Prague:20260327T184700
LOCATION:Kino Aero
END:VEVENT
END:VCALENDAR
BEGIN:VCALENDAR
PRODID:-//eluceo/ical//2.0/EN
VERSION:2.0
CALSCALE:GREGORIAN
BEGIN:VEVENT
UID:b6db7065055673873a75fb325cfd42a0
DTSTAMP:20260421T085053Z
SUMMARY:Tancuj\, kopej\, vykrúcaj!
DTSTART;TZID=Europe/Prague:20260327T171500
DTEND;TZID=Europe/Prague:20260327T184700
LOCATION:Kino Aero
END:VEVENT
END:VCALENDAR
