BEGIN:VCALENDAR
PRODID:-//eluceo/ical//2.0/EN
VERSION:2.0
CALSCALE:GREGORIAN
BEGIN:VEVENT
UID:5c0e3bccae47df58c9a3414f2f846408
DTSTAMP:20260421T090220Z
SUMMARY:Cirque de Zolé
DTSTART;TZID=Europe/Prague:20260328T143000
DTEND;TZID=Europe/Prague:20260328T160000
LOCATION:Kino Aero
END:VEVENT
END:VCALENDAR
BEGIN:VCALENDAR
PRODID:-//eluceo/ical//2.0/EN
VERSION:2.0
CALSCALE:GREGORIAN
BEGIN:VEVENT
UID:82af9a74af2096337c62aea7d8a5669c
DTSTAMP:20260421T090220Z
SUMMARY:Cirque de Zolé
DTSTART;TZID=Europe/Prague:20260328T143000
DTEND;TZID=Europe/Prague:20260328T160000
LOCATION:Kino Aero
END:VEVENT
END:VCALENDAR
