BEGIN:VCALENDAR
PRODID:-//eluceo/ical//2.0/EN
VERSION:2.0
CALSCALE:GREGORIAN
BEGIN:VEVENT
UID:0dc546265b92b4b1ac135cc6a4421bba
DTSTAMP:20260421T085415Z
SUMMARY:Princezna stokrát jinak
DTSTART;TZID=Europe/Prague:20260315T141500
DTEND;TZID=Europe/Prague:20260315T161300
LOCATION:Univerzitní kino Scala
END:VEVENT
END:VCALENDAR
BEGIN:VCALENDAR
PRODID:-//eluceo/ical//2.0/EN
VERSION:2.0
CALSCALE:GREGORIAN
BEGIN:VEVENT
UID:5f5b6d43b4262d9c9409406ea2137328
DTSTAMP:20260421T085415Z
SUMMARY:Princezna stokrát jinak
DTSTART;TZID=Europe/Prague:20260315T141500
DTEND;TZID=Europe/Prague:20260315T161300
LOCATION:Univerzitní kino Scala
END:VEVENT
END:VCALENDAR
