BEGIN:VCALENDAR
PRODID:-//eluceo/ical//2.0/EN
VERSION:2.0
CALSCALE:GREGORIAN
BEGIN:VEVENT
UID:60bbdcd7bc39f7ffb97758f44c0f4e76
DTSTAMP:20260421T090310Z
SUMMARY:Spasitel
DTSTART;TZID=Europe/Prague:20260314T201500
DTEND;TZID=Europe/Prague:20260314T225100
LOCATION:Kino Světozor
END:VEVENT
END:VCALENDAR
BEGIN:VCALENDAR
PRODID:-//eluceo/ical//2.0/EN
VERSION:2.0
CALSCALE:GREGORIAN
BEGIN:VEVENT
UID:f29e320b5f1d7622635d8c74a8f36324
DTSTAMP:20260421T090310Z
SUMMARY:Spasitel
DTSTART;TZID=Europe/Prague:20260314T201500
DTEND;TZID=Europe/Prague:20260314T225100
LOCATION:Kino Světozor
END:VEVENT
END:VCALENDAR
