BEGIN:VCALENDAR
PRODID:-//eluceo/ical//2.0/EN
VERSION:2.0
CALSCALE:GREGORIAN
BEGIN:VEVENT
UID:608af3f91e479cbd010a18344aefe14c
DTSTAMP:20260421T131603Z
SUMMARY:Zootropolis: Město zvířat 2
DTSTART;TZID=Europe/Prague:20260315T133000
DTEND;TZID=Europe/Prague:20260315T151800
LOCATION:Bio Central
END:VEVENT
END:VCALENDAR
BEGIN:VCALENDAR
PRODID:-//eluceo/ical//2.0/EN
VERSION:2.0
CALSCALE:GREGORIAN
BEGIN:VEVENT
UID:e3187b1914f3cc84ff8e8779e1b51cef
DTSTAMP:20260421T131603Z
SUMMARY:Zootropolis: Město zvířat 2
DTSTART;TZID=Europe/Prague:20260315T133000
DTEND;TZID=Europe/Prague:20260315T151800
LOCATION:Bio Central
END:VEVENT
END:VCALENDAR
