BEGIN:VCALENDAR
PRODID:-//eluceo/ical//2.0/EN
VERSION:2.0
CALSCALE:GREGORIAN
BEGIN:VEVENT
UID:7cc6cf35f338d9030d528792fa685c73
DTSTAMP:20260420T232013Z
SUMMARY:PTA et al. - Mozaiky nevyzpytatelnosti světa
DTSTART;TZID=Europe/Prague:20260424T173000
DTEND;TZID=Europe/Prague:20260424T223100
LOCATION:Kino Aero
END:VEVENT
END:VCALENDAR
BEGIN:VCALENDAR
PRODID:-//eluceo/ical//2.0/EN
VERSION:2.0
CALSCALE:GREGORIAN
BEGIN:VEVENT
UID:b9414c51e151b41fc58a5e9014e49a61
DTSTAMP:20260420T232013Z
SUMMARY:PTA et al. - Mozaiky nevyzpytatelnosti světa
DTSTART;TZID=Europe/Prague:20260424T173000
DTEND;TZID=Europe/Prague:20260424T223100
LOCATION:Kino Aero
END:VEVENT
END:VCALENDAR
