BEGIN:VCALENDAR
PRODID:-//eluceo/ical//2.0/EN
VERSION:2.0
CALSCALE:GREGORIAN
BEGIN:VEVENT
UID:8689294fb767d1f34243c5a1123bae2c
DTSTAMP:20260421T090310Z
SUMMARY:Zootropolis: Město zvířat 2
DTSTART;TZID=Europe/Prague:20260321T133000
DTEND;TZID=Europe/Prague:20260321T151800
LOCATION:Bio Central
END:VEVENT
END:VCALENDAR
BEGIN:VCALENDAR
PRODID:-//eluceo/ical//2.0/EN
VERSION:2.0
CALSCALE:GREGORIAN
BEGIN:VEVENT
UID:8bb622f017be1f1523daa853b3b9e943
DTSTAMP:20260421T090310Z
SUMMARY:Zootropolis: Město zvířat 2
DTSTART;TZID=Europe/Prague:20260321T133000
DTEND;TZID=Europe/Prague:20260321T151800
LOCATION:Bio Central
END:VEVENT
END:VCALENDAR
