BEGIN:VCALENDAR
PRODID:-//eluceo/ical//2.0/EN
VERSION:2.0
CALSCALE:GREGORIAN
BEGIN:VEVENT
UID:4fdb5da10f90c921a26cf9e15073ff71
DTSTAMP:20260421T085119Z
SUMMARY:Zootropolis: Město zvířat 2
DTSTART;TZID=Europe/Prague:20260322T133000
DTEND;TZID=Europe/Prague:20260322T151800
LOCATION:Bio Central
END:VEVENT
END:VCALENDAR
BEGIN:VCALENDAR
PRODID:-//eluceo/ical//2.0/EN
VERSION:2.0
CALSCALE:GREGORIAN
BEGIN:VEVENT
UID:012c506e2347877528324af7ed85916f
DTSTAMP:20260421T085119Z
SUMMARY:Zootropolis: Město zvířat 2
DTSTART;TZID=Europe/Prague:20260322T133000
DTEND;TZID=Europe/Prague:20260322T151800
LOCATION:Bio Central
END:VEVENT
END:VCALENDAR
