BEGIN:VCALENDAR
PRODID:-//eluceo/ical//2.0/EN
VERSION:2.0
CALSCALE:GREGORIAN
BEGIN:VEVENT
UID:8f0ce21dec92d2081b391859cf67562c
DTSTAMP:20260420T103146Z
SUMMARY:Zlom vaz\, bav se\, neumři
DTSTART;TZID=Europe/Prague:20260424T150000
DTEND;TZID=Europe/Prague:20260424T171400
LOCATION:Kino Světozor
END:VEVENT
END:VCALENDAR
BEGIN:VCALENDAR
PRODID:-//eluceo/ical//2.0/EN
VERSION:2.0
CALSCALE:GREGORIAN
BEGIN:VEVENT
UID:9103f0cfe5936ae322a4cdb8636a53a3
DTSTAMP:20260420T103146Z
SUMMARY:Zlom vaz\, bav se\, neumři
DTSTART;TZID=Europe/Prague:20260424T150000
DTEND;TZID=Europe/Prague:20260424T171400
LOCATION:Kino Světozor
END:VEVENT
END:VCALENDAR
