BEGIN:VCALENDAR
PRODID:-//eluceo/ical//2.0/EN
VERSION:2.0
CALSCALE:GREGORIAN
BEGIN:VEVENT
UID:b85fda4c01454b90b2569cc97272dc65
DTSTAMP:20260424T130730Z
SUMMARY:Soumrak dne
DTSTART;TZID=Europe/Prague:20260504T201500
DTEND;TZID=Europe/Prague:20260504T222900
LOCATION:Kino Aero
END:VEVENT
END:VCALENDAR
BEGIN:VCALENDAR
PRODID:-//eluceo/ical//2.0/EN
VERSION:2.0
CALSCALE:GREGORIAN
BEGIN:VEVENT
UID:8100889c30ee917b7daa9d190c57dcbc
DTSTAMP:20260424T130730Z
SUMMARY:Soumrak dne
DTSTART;TZID=Europe/Prague:20260504T201500
DTEND;TZID=Europe/Prague:20260504T222900
LOCATION:Kino Aero
END:VEVENT
END:VCALENDAR
