BEGIN:VCALENDAR
PRODID:-//eluceo/ical//2.0/EN
VERSION:2.0
CALSCALE:GREGORIAN
BEGIN:VEVENT
UID:a03536e3d3f88f61f3c2c61ee8376bd1
DTSTAMP:20260423T211325Z
SUMMARY:Skála
DTSTART;TZID=Europe/Prague:20260511T203000
DTEND;TZID=Europe/Prague:20260511T224600
LOCATION:Kino Aero
END:VEVENT
END:VCALENDAR
BEGIN:VCALENDAR
PRODID:-//eluceo/ical//2.0/EN
VERSION:2.0
CALSCALE:GREGORIAN
BEGIN:VEVENT
UID:0c974a937760fa7358b1a425165699ed
DTSTAMP:20260423T211325Z
SUMMARY:Skála
DTSTART;TZID=Europe/Prague:20260511T203000
DTEND;TZID=Europe/Prague:20260511T224600
LOCATION:Kino Aero
END:VEVENT
END:VCALENDAR
