BEGIN:VCALENDAR
PRODID:-//eluceo/ical//2.0/EN
VERSION:2.0
CALSCALE:GREGORIAN
BEGIN:VEVENT
UID:8dc954ff341b278fcec91739853c6676
DTSTAMP:20260419T130953Z
SUMMARY:Collateral
DTSTART;TZID=Europe/Prague:20260519T203000
DTEND;TZID=Europe/Prague:20260519T223000
LOCATION:Kino Aero
END:VEVENT
END:VCALENDAR
BEGIN:VCALENDAR
PRODID:-//eluceo/ical//2.0/EN
VERSION:2.0
CALSCALE:GREGORIAN
BEGIN:VEVENT
UID:3e2b48d425b95a270f4ff642ad31b604
DTSTAMP:20260419T130953Z
SUMMARY:Collateral
DTSTART;TZID=Europe/Prague:20260519T203000
DTEND;TZID=Europe/Prague:20260519T223000
LOCATION:Kino Aero
END:VEVENT
END:VCALENDAR
