BEGIN:VCALENDAR
PRODID:-//eluceo/ical//2.0/EN
VERSION:2.0
CALSCALE:GREGORIAN
BEGIN:VEVENT
UID:38da9715d286237156384e7613a9a74f
DTSTAMP:20260421T085622Z
SUMMARY:Scott Pilgrim proti zbytku světa
DTSTART;TZID=Europe/Prague:20260520T203000
DTEND;TZID=Europe/Prague:20260520T221800
LOCATION:Kino Aero
END:VEVENT
END:VCALENDAR
BEGIN:VCALENDAR
PRODID:-//eluceo/ical//2.0/EN
VERSION:2.0
CALSCALE:GREGORIAN
BEGIN:VEVENT
UID:50b2ae51f6c41fa1dfd1f3078fa2a097
DTSTAMP:20260421T085622Z
SUMMARY:Scott Pilgrim proti zbytku světa
DTSTART;TZID=Europe/Prague:20260520T203000
DTEND;TZID=Europe/Prague:20260520T221800
LOCATION:Kino Aero
END:VEVENT
END:VCALENDAR
