BEGIN:VCALENDAR
PRODID:-//eluceo/ical//2.0/EN
VERSION:2.0
CALSCALE:GREGORIAN
BEGIN:VEVENT
UID:58cd33605c18536bf3dba00e27f44b4f
DTSTAMP:20260424T183631Z
SUMMARY:Žena je žena
DTSTART;TZID=Europe/Prague:20260521T180100
DTEND;TZID=Europe/Prague:20260521T192500
LOCATION:Kino Aero
END:VEVENT
END:VCALENDAR
BEGIN:VCALENDAR
PRODID:-//eluceo/ical//2.0/EN
VERSION:2.0
CALSCALE:GREGORIAN
BEGIN:VEVENT
UID:510abf2ddda230f80f34568151660d8a
DTSTAMP:20260424T183631Z
SUMMARY:Žena je žena
DTSTART;TZID=Europe/Prague:20260521T180100
DTEND;TZID=Europe/Prague:20260521T192500
LOCATION:Kino Aero
END:VEVENT
END:VCALENDAR
