BEGIN:VCALENDAR
PRODID:-//eluceo/ical//2.0/EN
VERSION:2.0
CALSCALE:GREGORIAN
BEGIN:VEVENT
UID:51c41ee018b7fc5e5ec1f17a0d7e6200
DTSTAMP:20260420T102825Z
SUMMARY:Drama
DTSTART;TZID=Europe/Prague:20260421T203000
DTEND;TZID=Europe/Prague:20260421T221600
LOCATION:Kino Přítomnost
END:VEVENT
END:VCALENDAR
BEGIN:VCALENDAR
PRODID:-//eluceo/ical//2.0/EN
VERSION:2.0
CALSCALE:GREGORIAN
BEGIN:VEVENT
UID:a52bec8f5d11dd584a1b4b5be3261d87
DTSTAMP:20260420T102825Z
SUMMARY:Drama
DTSTART;TZID=Europe/Prague:20260421T203000
DTEND;TZID=Europe/Prague:20260421T221600
LOCATION:Kino Přítomnost
END:VEVENT
END:VCALENDAR
