BEGIN:VCALENDAR
PRODID:-//eluceo/ical//2.0/EN
VERSION:2.0
CALSCALE:GREGORIAN
BEGIN:VEVENT
UID:838278409af66fd43b1c38e249d5e378
DTSTAMP:20260420T103139Z
SUMMARY:Drama
DTSTART;TZID=Europe/Prague:20260422T170000
DTEND;TZID=Europe/Prague:20260422T184600
LOCATION:Kino Přítomnost
END:VEVENT
END:VCALENDAR
BEGIN:VCALENDAR
PRODID:-//eluceo/ical//2.0/EN
VERSION:2.0
CALSCALE:GREGORIAN
BEGIN:VEVENT
UID:455844c778001d252bac0d6da2a78787
DTSTAMP:20260420T103139Z
SUMMARY:Drama
DTSTART;TZID=Europe/Prague:20260422T170000
DTEND;TZID=Europe/Prague:20260422T184600
LOCATION:Kino Přítomnost
END:VEVENT
END:VCALENDAR
