BEGIN:VCALENDAR
PRODID:-//eluceo/ical//2.0/EN
VERSION:2.0
CALSCALE:GREGORIAN
BEGIN:VEVENT
UID:52300b1e2c7b90b2f88c90802d419e61
DTSTAMP:20260420T102707Z
SUMMARY:Drama
DTSTART;TZID=Europe/Prague:20260421T204500
DTEND;TZID=Europe/Prague:20260421T223100
LOCATION:Kino Lucerna
END:VEVENT
END:VCALENDAR
BEGIN:VCALENDAR
PRODID:-//eluceo/ical//2.0/EN
VERSION:2.0
CALSCALE:GREGORIAN
BEGIN:VEVENT
UID:ef6c04e3faed261f6f16cd16c0e87324
DTSTAMP:20260420T102707Z
SUMMARY:Drama
DTSTART;TZID=Europe/Prague:20260421T204500
DTEND;TZID=Europe/Prague:20260421T223100
LOCATION:Kino Lucerna
END:VEVENT
END:VCALENDAR
