BEGIN:VCALENDAR
PRODID:-//eluceo/ical//2.0/EN
VERSION:2.0
CALSCALE:GREGORIAN
BEGIN:VEVENT
UID:56312fbc8bf9992adc372f59acf4fedf
DTSTAMP:20260420T103126Z
SUMMARY:Drama
DTSTART;TZID=Europe/Prague:20260422T204500
DTEND;TZID=Europe/Prague:20260422T223100
LOCATION:Kino Lucerna
END:VEVENT
END:VCALENDAR
BEGIN:VCALENDAR
PRODID:-//eluceo/ical//2.0/EN
VERSION:2.0
CALSCALE:GREGORIAN
BEGIN:VEVENT
UID:2dd905edcf85507db053c04f6087ebd3
DTSTAMP:20260420T103126Z
SUMMARY:Drama
DTSTART;TZID=Europe/Prague:20260422T204500
DTEND;TZID=Europe/Prague:20260422T223100
LOCATION:Kino Lucerna
END:VEVENT
END:VCALENDAR
