BEGIN:VCALENDAR
PRODID:-//eluceo/ical//2.0/EN
VERSION:2.0
CALSCALE:GREGORIAN
BEGIN:VEVENT
UID:585886dcf90ec3c25c9df45fcc3a8458
DTSTAMP:20260420T102830Z
SUMMARY:Drama
DTSTART;TZID=Europe/Prague:20260421T201500
DTEND;TZID=Europe/Prague:20260421T220100
LOCATION:Kino Aero
END:VEVENT
END:VCALENDAR
BEGIN:VCALENDAR
PRODID:-//eluceo/ical//2.0/EN
VERSION:2.0
CALSCALE:GREGORIAN
BEGIN:VEVENT
UID:020056d6988e2ac43ae8d63bce42c510
DTSTAMP:20260420T102830Z
SUMMARY:Drama
DTSTART;TZID=Europe/Prague:20260421T201500
DTEND;TZID=Europe/Prague:20260421T220100
LOCATION:Kino Aero
END:VEVENT
END:VCALENDAR
