BEGIN:VCALENDAR
PRODID:-//eluceo/ical//2.0/EN
VERSION:2.0
CALSCALE:GREGORIAN
BEGIN:VEVENT
UID:bc2869dd5967723fb88ec75423c95322
DTSTAMP:20260420T103013Z
SUMMARY:Drama
DTSTART;TZID=Europe/Prague:20260421T153000
DTEND;TZID=Europe/Prague:20260421T171600
LOCATION:Kino Světozor
END:VEVENT
END:VCALENDAR
BEGIN:VCALENDAR
PRODID:-//eluceo/ical//2.0/EN
VERSION:2.0
CALSCALE:GREGORIAN
BEGIN:VEVENT
UID:550117f1c4b444a3930b81dc1546b4b3
DTSTAMP:20260420T103013Z
SUMMARY:Drama
DTSTART;TZID=Europe/Prague:20260421T153000
DTEND;TZID=Europe/Prague:20260421T171600
LOCATION:Kino Světozor
END:VEVENT
END:VCALENDAR
