BEGIN:VCALENDAR
PRODID:-//eluceo/ical//2.0/EN
VERSION:2.0
CALSCALE:GREGORIAN
BEGIN:VEVENT
UID:948f7ce0a79386ca896c7c104a74731d
DTSTAMP:20260420T103026Z
SUMMARY:Drama
DTSTART;TZID=Europe/Prague:20260421T180000
DTEND;TZID=Europe/Prague:20260421T194600
LOCATION:Kino Světozor
END:VEVENT
END:VCALENDAR
BEGIN:VCALENDAR
PRODID:-//eluceo/ical//2.0/EN
VERSION:2.0
CALSCALE:GREGORIAN
BEGIN:VEVENT
UID:71c8f041b3a1e391a81d6e32eee67233
DTSTAMP:20260420T103026Z
SUMMARY:Drama
DTSTART;TZID=Europe/Prague:20260421T180000
DTEND;TZID=Europe/Prague:20260421T194600
LOCATION:Kino Světozor
END:VEVENT
END:VCALENDAR
