BEGIN:VCALENDAR
PRODID:-//eluceo/ical//2.0/EN
VERSION:2.0
CALSCALE:GREGORIAN
BEGIN:VEVENT
UID:f9d04c83fc4bb3811d476b6b0e70ee6a
DTSTAMP:20260420T103146Z
SUMMARY:Drama
DTSTART;TZID=Europe/Prague:20260422T180000
DTEND;TZID=Europe/Prague:20260422T194600
LOCATION:Kino Světozor
END:VEVENT
END:VCALENDAR
BEGIN:VCALENDAR
PRODID:-//eluceo/ical//2.0/EN
VERSION:2.0
CALSCALE:GREGORIAN
BEGIN:VEVENT
UID:2c320cdcbcda7cb14217c23599acb4d9
DTSTAMP:20260420T103146Z
SUMMARY:Drama
DTSTART;TZID=Europe/Prague:20260422T180000
DTEND;TZID=Europe/Prague:20260422T194600
LOCATION:Kino Světozor
END:VEVENT
END:VCALENDAR
