BEGIN:VCALENDAR
PRODID:-//eluceo/ical//2.0/EN
VERSION:2.0
CALSCALE:GREGORIAN
BEGIN:VEVENT
UID:5d4b82f141615cfa81393a66d75478e6
DTSTAMP:20260420T103126Z
SUMMARY:Drama
DTSTART;TZID=Europe/Prague:20260421T200000
DTEND;TZID=Europe/Prague:20260421T214600
LOCATION:Univerzitní kino Scala
END:VEVENT
END:VCALENDAR
BEGIN:VCALENDAR
PRODID:-//eluceo/ical//2.0/EN
VERSION:2.0
CALSCALE:GREGORIAN
BEGIN:VEVENT
UID:7418c2d32ebc5b4ecae3fc5b37b2a081
DTSTAMP:20260420T103126Z
SUMMARY:Drama
DTSTART;TZID=Europe/Prague:20260421T200000
DTEND;TZID=Europe/Prague:20260421T214600
LOCATION:Univerzitní kino Scala
END:VEVENT
END:VCALENDAR
