BEGIN:VCALENDAR
PRODID:-//eluceo/ical//2.0/EN
VERSION:2.0
CALSCALE:GREGORIAN
BEGIN:VEVENT
UID:edb798bc9167c1433a54a59a9e6fb2c7
DTSTAMP:20260420T102400Z
SUMMARY:Drama
DTSTART;TZID=Europe/Prague:20260423T200000
DTEND;TZID=Europe/Prague:20260423T214600
LOCATION:Univerzitní kino Scala
END:VEVENT
END:VCALENDAR
BEGIN:VCALENDAR
PRODID:-//eluceo/ical//2.0/EN
VERSION:2.0
CALSCALE:GREGORIAN
BEGIN:VEVENT
UID:4ef1f4a9810f43152cec65c2cde33866
DTSTAMP:20260420T102400Z
SUMMARY:Drama
DTSTART;TZID=Europe/Prague:20260423T200000
DTEND;TZID=Europe/Prague:20260423T214600
LOCATION:Univerzitní kino Scala
END:VEVENT
END:VCALENDAR
