BEGIN:VCALENDAR
PRODID:-//eluceo/ical//2.0/EN
VERSION:2.0
CALSCALE:GREGORIAN
BEGIN:VEVENT
UID:460d8814b9824e7651e8ac0079cf14de
DTSTAMP:20260420T103309Z
SUMMARY:Drama
DTSTART;TZID=Europe/Prague:20260425T200000
DTEND;TZID=Europe/Prague:20260425T214600
LOCATION:Univerzitní kino Scala
END:VEVENT
END:VCALENDAR
BEGIN:VCALENDAR
PRODID:-//eluceo/ical//2.0/EN
VERSION:2.0
CALSCALE:GREGORIAN
BEGIN:VEVENT
UID:44d52e02e03edbd89c5b92e9a425bc57
DTSTAMP:20260420T103309Z
SUMMARY:Drama
DTSTART;TZID=Europe/Prague:20260425T200000
DTEND;TZID=Europe/Prague:20260425T214600
LOCATION:Univerzitní kino Scala
END:VEVENT
END:VCALENDAR
