BEGIN:VCALENDAR
PRODID:-//eluceo/ical//2.0/EN
VERSION:2.0
CALSCALE:GREGORIAN
BEGIN:VEVENT
UID:691139b3e276bcf744dfaa24cf2682df
DTSTAMP:20260420T103139Z
SUMMARY:Drama
DTSTART;TZID=Europe/Prague:20260426T173000
DTEND;TZID=Europe/Prague:20260426T191600
LOCATION:Univerzitní kino Scala
END:VEVENT
END:VCALENDAR
BEGIN:VCALENDAR
PRODID:-//eluceo/ical//2.0/EN
VERSION:2.0
CALSCALE:GREGORIAN
BEGIN:VEVENT
UID:f777602935ceb27a2d8b03224bfd3a17
DTSTAMP:20260420T103139Z
SUMMARY:Drama
DTSTART;TZID=Europe/Prague:20260426T173000
DTEND;TZID=Europe/Prague:20260426T191600
LOCATION:Univerzitní kino Scala
END:VEVENT
END:VCALENDAR
