BEGIN:VCALENDAR
PRODID:-//eluceo/ical//2.0/EN
VERSION:2.0
CALSCALE:GREGORIAN
BEGIN:VEVENT
UID:bd779140221917588852a78f6bbf2e6a
DTSTAMP:20260420T102929Z
SUMMARY:Drama
DTSTART;TZID=Europe/Prague:20260428T173000
DTEND;TZID=Europe/Prague:20260428T191600
LOCATION:Univerzitní kino Scala
END:VEVENT
END:VCALENDAR
BEGIN:VCALENDAR
PRODID:-//eluceo/ical//2.0/EN
VERSION:2.0
CALSCALE:GREGORIAN
BEGIN:VEVENT
UID:1e99318828f3e5c685294e15319b463f
DTSTAMP:20260420T102929Z
SUMMARY:Drama
DTSTART;TZID=Europe/Prague:20260428T173000
DTEND;TZID=Europe/Prague:20260428T191600
LOCATION:Univerzitní kino Scala
END:VEVENT
END:VCALENDAR
