BEGIN:VCALENDAR
PRODID:-//eluceo/ical//2.0/EN
VERSION:2.0
CALSCALE:GREGORIAN
BEGIN:VEVENT
UID:c58a622c5261f17b3ee620a9a0f352d3
DTSTAMP:20260423T021028Z
SUMMARY:Slepice
DTSTART;TZID=Europe/Prague:20260427T174500
DTEND;TZID=Europe/Prague:20260427T192100
LOCATION:Univerzitní kino Scala
END:VEVENT
END:VCALENDAR
BEGIN:VCALENDAR
PRODID:-//eluceo/ical//2.0/EN
VERSION:2.0
CALSCALE:GREGORIAN
BEGIN:VEVENT
UID:f73b14402ad745dbaa7192f873aa5165
DTSTAMP:20260423T021028Z
SUMMARY:Slepice
DTSTART;TZID=Europe/Prague:20260427T174500
DTEND;TZID=Europe/Prague:20260427T192100
LOCATION:Univerzitní kino Scala
END:VEVENT
END:VCALENDAR
