BEGIN:VCALENDAR
PRODID:-//eluceo/ical//2.0/EN
VERSION:2.0
CALSCALE:GREGORIAN
BEGIN:VEVENT
UID:5dcae8a0857ac3c1b76c0cd38a3f6f7e
DTSTAMP:20260420T102239Z
SUMMARY:Zlom vaz\, bav se\, neumři
DTSTART;TZID=Europe/Prague:20260422T170000
DTEND;TZID=Europe/Prague:20260422T191400
LOCATION:Univerzitní kino Scala
END:VEVENT
END:VCALENDAR
BEGIN:VCALENDAR
PRODID:-//eluceo/ical//2.0/EN
VERSION:2.0
CALSCALE:GREGORIAN
BEGIN:VEVENT
UID:98c0c92372fbf2e925a50129a284b7a0
DTSTAMP:20260420T102239Z
SUMMARY:Zlom vaz\, bav se\, neumři
DTSTART;TZID=Europe/Prague:20260422T170000
DTEND;TZID=Europe/Prague:20260422T191400
LOCATION:Univerzitní kino Scala
END:VEVENT
END:VCALENDAR
