BEGIN:VCALENDAR
PRODID:-//eluceo/ical//2.0/EN
VERSION:2.0
CALSCALE:GREGORIAN
BEGIN:VEVENT
UID:9a40bc4568d49281212b6e7f7a3b7a34
DTSTAMP:20260423T161617Z
SUMMARY:Hlas Hind Radžab
DTSTART;TZID=Europe/Prague:20260515T143000
DTEND;TZID=Europe/Prague:20260515T155900
LOCATION:Bio Central
END:VEVENT
END:VCALENDAR
BEGIN:VCALENDAR
PRODID:-//eluceo/ical//2.0/EN
VERSION:2.0
CALSCALE:GREGORIAN
BEGIN:VEVENT
UID:04bb87c8aebbce39d6215527874da03c
DTSTAMP:20260423T161617Z
SUMMARY:Hlas Hind Radžab
DTSTART;TZID=Europe/Prague:20260515T143000
DTEND;TZID=Europe/Prague:20260515T155900
LOCATION:Bio Central
END:VEVENT
END:VCALENDAR
