BEGIN:VCALENDAR
PRODID:-//eluceo/ical//2.0/EN
VERSION:2.0
CALSCALE:GREGORIAN
BEGIN:VEVENT
UID:28b5d30fdf872e4d6366cee80bfe3c1d
DTSTAMP:20260420T102830Z
SUMMARY:Drama
DTSTART;TZID=Europe/Prague:20260522T143000
DTEND;TZID=Europe/Prague:20260522T161600
LOCATION:Bio Central
END:VEVENT
END:VCALENDAR
BEGIN:VCALENDAR
PRODID:-//eluceo/ical//2.0/EN
VERSION:2.0
CALSCALE:GREGORIAN
BEGIN:VEVENT
UID:0535a3a021a17d96a16e4eee6340b3ff
DTSTAMP:20260420T102830Z
SUMMARY:Drama
DTSTART;TZID=Europe/Prague:20260522T143000
DTEND;TZID=Europe/Prague:20260522T161600
LOCATION:Bio Central
END:VEVENT
END:VCALENDAR
