BEGIN:VCALENDAR
PRODID:-//eluceo/ical//2.0/EN
VERSION:2.0
CALSCALE:GREGORIAN
BEGIN:VEVENT
UID:4d0df2a88cb8956c3782aaac7d253b9e
DTSTAMP:20260420T102536Z
SUMMARY:Drama
DTSTART;TZID=Europe/Prague:20260501T130000
DTEND;TZID=Europe/Prague:20260501T144600
LOCATION:Kino Lucerna
END:VEVENT
END:VCALENDAR
BEGIN:VCALENDAR
PRODID:-//eluceo/ical//2.0/EN
VERSION:2.0
CALSCALE:GREGORIAN
BEGIN:VEVENT
UID:9e3442b03d521c5658b3b693157ee7a2
DTSTAMP:20260420T102536Z
SUMMARY:Drama
DTSTART;TZID=Europe/Prague:20260501T130000
DTEND;TZID=Europe/Prague:20260501T144600
LOCATION:Kino Lucerna
END:VEVENT
END:VCALENDAR
