BEGIN:VCALENDAR
PRODID:-//eluceo/ical//2.0/EN
VERSION:2.0
CALSCALE:GREGORIAN
BEGIN:VEVENT
UID:54d66e9b8a066ec2b6fbce22fc3ff709
DTSTAMP:20260423T020856Z
SUMMARY:Slepice
DTSTART;TZID=Europe/Prague:20260506T150000
DTEND;TZID=Europe/Prague:20260506T163600
LOCATION:Kino Lucerna
END:VEVENT
END:VCALENDAR
BEGIN:VCALENDAR
PRODID:-//eluceo/ical//2.0/EN
VERSION:2.0
CALSCALE:GREGORIAN
BEGIN:VEVENT
UID:8ba6820d3546adf0f478b5725437971a
DTSTAMP:20260423T020856Z
SUMMARY:Slepice
DTSTART;TZID=Europe/Prague:20260506T150000
DTEND;TZID=Europe/Prague:20260506T163600
LOCATION:Kino Lucerna
END:VEVENT
END:VCALENDAR
