BEGIN:VCALENDAR
PRODID:-//eluceo/ical//2.0/EN
VERSION:2.0
CALSCALE:GREGORIAN
BEGIN:VEVENT
UID:1c646ed6cf237bb797b587427e7d5565
DTSTAMP:20260420T102211Z
SUMMARY:Drama
DTSTART;TZID=Europe/Prague:20260424T203000
DTEND;TZID=Europe/Prague:20260424T221600
LOCATION:Kino Přítomnost
END:VEVENT
END:VCALENDAR
BEGIN:VCALENDAR
PRODID:-//eluceo/ical//2.0/EN
VERSION:2.0
CALSCALE:GREGORIAN
BEGIN:VEVENT
UID:059820f91d4147fe97aead585be38b17
DTSTAMP:20260420T102211Z
SUMMARY:Drama
DTSTART;TZID=Europe/Prague:20260424T203000
DTEND;TZID=Europe/Prague:20260424T221600
LOCATION:Kino Přítomnost
END:VEVENT
END:VCALENDAR
