BEGIN:VCALENDAR
PRODID:-//eluceo/ical//2.0/EN
VERSION:2.0
CALSCALE:GREGORIAN
BEGIN:VEVENT
UID:a5f162b8002217215731796fe6c4c2ad
DTSTAMP:20260420T103309Z
SUMMARY:Drama
DTSTART;TZID=Europe/Prague:20260425T143000
DTEND;TZID=Europe/Prague:20260425T161600
LOCATION:Kino Přítomnost
END:VEVENT
END:VCALENDAR
BEGIN:VCALENDAR
PRODID:-//eluceo/ical//2.0/EN
VERSION:2.0
CALSCALE:GREGORIAN
BEGIN:VEVENT
UID:3acf1f0510280571341870d8fe22a213
DTSTAMP:20260420T103309Z
SUMMARY:Drama
DTSTART;TZID=Europe/Prague:20260425T143000
DTEND;TZID=Europe/Prague:20260425T161600
LOCATION:Kino Přítomnost
END:VEVENT
END:VCALENDAR
