BEGIN:VCALENDAR
PRODID:-//eluceo/ical//2.0/EN
VERSION:2.0
CALSCALE:GREGORIAN
BEGIN:VEVENT
UID:36bd45bc3992438297cdaa7165a3d1d8
DTSTAMP:20260423T020921Z
SUMMARY:Slepice
DTSTART;TZID=Europe/Prague:20260426T170000
DTEND;TZID=Europe/Prague:20260426T183600
LOCATION:Kino Přítomnost
END:VEVENT
END:VCALENDAR
BEGIN:VCALENDAR
PRODID:-//eluceo/ical//2.0/EN
VERSION:2.0
CALSCALE:GREGORIAN
BEGIN:VEVENT
UID:537d307fb4a70c5bc2e86150484f658b
DTSTAMP:20260423T020921Z
SUMMARY:Slepice
DTSTART;TZID=Europe/Prague:20260426T170000
DTEND;TZID=Europe/Prague:20260426T183600
LOCATION:Kino Přítomnost
END:VEVENT
END:VCALENDAR
