BEGIN:VCALENDAR
PRODID:-//eluceo/ical//2.0/EN
VERSION:2.0
CALSCALE:GREGORIAN
BEGIN:VEVENT
UID:717716b6cc03b1cc1f142b1a3fc28755
DTSTAMP:20260420T102631Z
SUMMARY:Drama
DTSTART;TZID=Europe/Prague:20260429T173000
DTEND;TZID=Europe/Prague:20260429T191600
LOCATION:Kino Přítomnost
END:VEVENT
END:VCALENDAR
BEGIN:VCALENDAR
PRODID:-//eluceo/ical//2.0/EN
VERSION:2.0
CALSCALE:GREGORIAN
BEGIN:VEVENT
UID:7ad69e49d2b9050aa781977b7e0b12c6
DTSTAMP:20260420T102631Z
SUMMARY:Drama
DTSTART;TZID=Europe/Prague:20260429T173000
DTEND;TZID=Europe/Prague:20260429T191600
LOCATION:Kino Přítomnost
END:VEVENT
END:VCALENDAR
