BEGIN:VCALENDAR
PRODID:-//eluceo/ical//2.0/EN
VERSION:2.0
CALSCALE:GREGORIAN
BEGIN:VEVENT
UID:673e81df471977b936e8a525a00e9ded
DTSTAMP:20260420T102206Z
SUMMARY:Drama
DTSTART;TZID=Europe/Prague:20260515T130000
DTEND;TZID=Europe/Prague:20260515T144600
LOCATION:Kino Lucerna
END:VEVENT
END:VCALENDAR
BEGIN:VCALENDAR
PRODID:-//eluceo/ical//2.0/EN
VERSION:2.0
CALSCALE:GREGORIAN
BEGIN:VEVENT
UID:2c4cbe079b55498a429662b70e6119e1
DTSTAMP:20260420T102206Z
SUMMARY:Drama
DTSTART;TZID=Europe/Prague:20260515T130000
DTEND;TZID=Europe/Prague:20260515T144600
LOCATION:Kino Lucerna
END:VEVENT
END:VCALENDAR
