BEGIN:VCALENDAR
PRODID:-//eluceo/ical//2.0/EN
VERSION:2.0
CALSCALE:GREGORIAN
BEGIN:VEVENT
UID:651d294ab7861e2d03fdb01fe962ba3c
DTSTAMP:20260420T102418Z
SUMMARY:Drama
DTSTART;TZID=Europe/Prague:20260505T150000
DTEND;TZID=Europe/Prague:20260505T164600
LOCATION:Kino Světozor
END:VEVENT
END:VCALENDAR
BEGIN:VCALENDAR
PRODID:-//eluceo/ical//2.0/EN
VERSION:2.0
CALSCALE:GREGORIAN
BEGIN:VEVENT
UID:e53d8073d3bb0e90da9826b1f4ccf4fc
DTSTAMP:20260420T102418Z
SUMMARY:Drama
DTSTART;TZID=Europe/Prague:20260505T150000
DTEND;TZID=Europe/Prague:20260505T164600
LOCATION:Kino Světozor
END:VEVENT
END:VCALENDAR
