BEGIN:VCALENDAR
PRODID:-//eluceo/ical//2.0/EN
VERSION:2.0
CALSCALE:GREGORIAN
BEGIN:VEVENT
UID:84b6c7e8a17c38bf11cec6795bdcbf04
DTSTAMP:20260420T102530Z
SUMMARY:Drama
DTSTART;TZID=Europe/Prague:20260508T150000
DTEND;TZID=Europe/Prague:20260508T164600
LOCATION:Kino Světozor
END:VEVENT
END:VCALENDAR
BEGIN:VCALENDAR
PRODID:-//eluceo/ical//2.0/EN
VERSION:2.0
CALSCALE:GREGORIAN
BEGIN:VEVENT
UID:595810b26f7127ce1f07d50782d66ccc
DTSTAMP:20260420T102530Z
SUMMARY:Drama
DTSTART;TZID=Europe/Prague:20260508T150000
DTEND;TZID=Europe/Prague:20260508T164600
LOCATION:Kino Světozor
END:VEVENT
END:VCALENDAR
